BEGIN:VCALENDAR
VERSION:2.0
PRODID:-//Leftwich - ECPv6.15.17.1//NONSGML v1.0//EN
CALSCALE:GREGORIAN
METHOD:PUBLISH
X-ORIGINAL-URL:https://leftwichprimary.co.uk
X-WR-CALDESC:Events for Leftwich
REFRESH-INTERVAL;VALUE=DURATION:PT1H
X-Robots-Tag:noindex
X-PUBLISHED-TTL:PT1H
BEGIN:VTIMEZONE
TZID:Europe/London
BEGIN:DAYLIGHT
TZOFFSETFROM:+0000
TZOFFSETTO:+0100
TZNAME:BST
DTSTART:20240331T010000
END:DAYLIGHT
BEGIN:STANDARD
TZOFFSETFROM:+0100
TZOFFSETTO:+0000
TZNAME:GMT
DTSTART:20241027T010000
END:STANDARD
BEGIN:DAYLIGHT
TZOFFSETFROM:+0000
TZOFFSETTO:+0100
TZNAME:BST
DTSTART:20250330T010000
END:DAYLIGHT
BEGIN:STANDARD
TZOFFSETFROM:+0100
TZOFFSETTO:+0000
TZNAME:GMT
DTSTART:20251026T010000
END:STANDARD
BEGIN:DAYLIGHT
TZOFFSETFROM:+0000
TZOFFSETTO:+0100
TZNAME:BST
DTSTART:20260329T010000
END:DAYLIGHT
BEGIN:STANDARD
TZOFFSETFROM:+0100
TZOFFSETTO:+0000
TZNAME:GMT
DTSTART:20261025T010000
END:STANDARD
END:VTIMEZONE
BEGIN:VEVENT
DTSTART;TZID=Europe/London:20251203T100000
DTEND;TZID=Europe/London:20251203T110000
DTSTAMP:20260422T135638
CREATED:20251125T144037Z
LAST-MODIFIED:20251125T144037Z
UID:10000548-1764756000-1764759600@leftwichprimary.co.uk
SUMMARY:Christmas Rhyme Time
DESCRIPTION:
URL:https://leftwichprimary.co.uk/event/christmas-rhyme-time/
END:VEVENT
BEGIN:VEVENT
DTSTART;TZID=Europe/London:20251204T151500
DTEND;TZID=Europe/London:20251204T183000
DTSTAMP:20260422T135638
CREATED:20250930T141401Z
LAST-MODIFIED:20250930T141401Z
UID:10000542-1764861300-1764873000@leftwichprimary.co.uk
SUMMARY:Christmas Disco's
DESCRIPTION:Infant Disco 3.15pm to 4.45pm \nJunior Disco 5pm to 6.30pm
URL:https://leftwichprimary.co.uk/event/christmas-discos/
END:VEVENT
BEGIN:VEVENT
DTSTART;TZID=Europe/London:20251208T133000
DTEND;TZID=Europe/London:20251208T143000
DTSTAMP:20260422T135638
CREATED:20251125T144137Z
LAST-MODIFIED:20251125T144137Z
UID:10000549-1765200600-1765204200@leftwichprimary.co.uk
SUMMARY:Key Stage 1 Nativity Dress Rehearsal
DESCRIPTION:
URL:https://leftwichprimary.co.uk/event/key-stage-1-nativity-dress-rehearsal/
END:VEVENT
BEGIN:VEVENT
DTSTART;TZID=Europe/London:20251209T140000
DTEND;TZID=Europe/London:20251209T150000
DTSTAMP:20260422T135638
CREATED:20251125T144417Z
LAST-MODIFIED:20251125T144417Z
UID:10000550-1765288800-1765292400@leftwichprimary.co.uk
SUMMARY:Key Stage 1 Nativity for Parents/Families
DESCRIPTION:
URL:https://leftwichprimary.co.uk/event/key-stage-1-nativity-for-parents-families/
END:VEVENT
BEGIN:VEVENT
DTSTART;TZID=Europe/London:20251210T173000
DTEND;TZID=Europe/London:20251210T183000
DTSTAMP:20260422T135638
CREATED:20251125T144512Z
LAST-MODIFIED:20251125T144512Z
UID:10000551-1765387800-1765391400@leftwichprimary.co.uk
SUMMARY:Key Stage 1 Nativity Evening Performance
DESCRIPTION:
URL:https://leftwichprimary.co.uk/event/key-stage-1-nativity-evening-performance/
END:VEVENT
BEGIN:VEVENT
DTSTART;VALUE=DATE:20251211
DTEND;VALUE=DATE:20251212
DTSTAMP:20260422T135638
CREATED:20251125T144607Z
LAST-MODIFIED:20251125T144607Z
UID:10000552-1765411200-1765497599@leftwichprimary.co.uk
SUMMARY:Christmas Jumper and Christmas Dinner Day
DESCRIPTION:
URL:https://leftwichprimary.co.uk/event/christmas-jumper-and-christmas-dinner-day/
END:VEVENT
BEGIN:VEVENT
DTSTART;TZID=Europe/London:20251215T133000
DTEND;TZID=Europe/London:20251215T143000
DTSTAMP:20260422T135638
CREATED:20250930T141448Z
LAST-MODIFIED:20250930T141448Z
UID:10000543-1765805400-1765809000@leftwichprimary.co.uk
SUMMARY:Junior Carol Service at Emmanuel Church
DESCRIPTION:
URL:https://leftwichprimary.co.uk/event/junior-carol-service-at-emmanuel-church/
END:VEVENT
BEGIN:VEVENT
DTSTART;VALUE=DATE:20251219
DTEND;VALUE=DATE:20251220
DTSTAMP:20260422T135638
CREATED:20251125T144736Z
LAST-MODIFIED:20251125T144816Z
UID:10000553-1766102400-1766188799@leftwichprimary.co.uk
SUMMARY:Christmas Jumper Day
DESCRIPTION:
URL:https://leftwichprimary.co.uk/event/christmas-jumper-day/
END:VEVENT
BEGIN:VEVENT
DTSTART;VALUE=DATE:20251219
DTEND;VALUE=DATE:20251220
DTSTAMP:20260422T135638
CREATED:20251215T142448Z
LAST-MODIFIED:20251215T142448Z
UID:10000555-1766102400-1766188799@leftwichprimary.co.uk
SUMMARY:Last day in before Christmas Holiday
DESCRIPTION:
URL:https://leftwichprimary.co.uk/event/last-day-in-before-christmas-holiday/
END:VEVENT
END:VCALENDAR